BEGIN:VCALENDAR
VERSION:2.0
PRODID:EVENTFROG//EVENT//ICAL
BEGIN:VEVENT
UID:20260419T172919Z-7444782780540545205@eventfrog.de
DTSTAMP:20260419T172919Z
DTSTART:20260425T080000Z
DTEND:20260425T103000Z
SUMMARY:Atemyoga, Kangreise und Zellreinigung mit Ölen
DESCRIPTION:Starte entspannt in dein Wochenende\n\nhttps://eventfrog.de/de/p/diverses/atemyoga-kangreise-und-zellreinigung-mit-oelen-7444782780540545205.html
LOCATION:Refugium Dresdner Str.1 01465 Langebrück
GEO:51.126199;13.842348
URL:https://eventfrog.de/de/p/diverses/atemyoga-kangreise-und-zellreinigung-mit-oelen-7444782780540545205.html
END:VEVENT
END:VCALENDAR