BEGIN:VCALENDAR
VERSION:2.0
PRODID:EVENTFROG//EVENT//ICAL
BEGIN:VEVENT
UID:20260422T013155Z-7445176361767949266@eventfrog.de
DTSTAMP:20260422T013155Z
DTSTART:20260530T180000Z
DTEND:20260530T215900Z
SUMMARY:Windband Wehntal Krimi-Konzert
DESCRIPTION:Blasmusik Konzert mit Windband Wehntal mit eigens für das Konzert geschriebenen Krimi, moderiert vom Autor Manuel Diener persönlich. „Die letzt Nacht in Lugano“\n\nhttps://eventfrog.de/de/p/konzerte/blasmusik/windband-wehntal-krimi-konzert-7445176361767949266.html
LOCATION:Konzert Windband Wehntal
GEO:47.501400;8.412160
URL:https://eventfrog.de/de/p/konzerte/blasmusik/windband-wehntal-krimi-konzert-7445176361767949266.html
END:VEVENT
END:VCALENDAR