BEGIN:VCALENDAR
VERSION:2.0
PRODID:EVENTFROG//EVENT//ICAL
BEGIN:VEVENT
UID:20260425T201230Z-7445207756947091649@eventfrog.de
DTSTAMP:20260425T201230Z
DTSTART:20260506T160000Z
DTEND:20260506T163000Z
SUMMARY:ERÖFFNUNG DES TANZFESTS ZUG 26 – «TanZug» & «Empreinte»
DESCRIPTION:﻿TANZUG ist unser Ruf nach Einheit in der Diversität -… Ein Tanz, der unsere Wahrheit sichtbar macht.\n\nhttps://eventfrog.de/de/p/theater-buehne/tanz/eroeffnung-des-tanzfests-zug-26-tanzug-empreinte-7445207756947091649.html
LOCATION:Theater Casino Zug
GEO:47.164359;8.513848
URL:https://eventfrog.de/de/p/theater-buehne/tanz/eroeffnung-des-tanzfests-zug-26-tanzug-empreinte-7445207756947091649.html
END:VEVENT
END:VCALENDAR