BEGIN:VCALENDAR
VERSION:2.0
PRODID:EVENTFROG//EVENT//ICAL
BEGIN:VEVENT
UID:20260422T013303Z-7445382112939644702@eventfrog.de
DTSTAMP:20260422T013303Z
DTSTART:20260504T140000Z
DTEND:20260504T154500Z
SUMMARY:Wahlfeier für Kantonsratspräsidentin Romaine Rogenmoser
DESCRIPTION:Der Stadtrat lädt ein zur Wahlfeier für Kantonsratspräsidentin Romaine Rogenmoser. \n\n\n\nhttps://eventfrog.de/de/p/politik-gemeinde/gemeinde/wahlfeier-fuer-kantonsratspraesidentin-romaine-rogenmoser-7445382112939644702.html
LOCATION:Stadthalle
GEO:47.515640;8.536455
URL:https://eventfrog.de/de/p/politik-gemeinde/gemeinde/wahlfeier-fuer-kantonsratspraesidentin-romaine-rogenmoser-7445382112939644702.html
END:VEVENT
END:VCALENDAR