BEGIN:VCALENDAR
VERSION:2.0
PRODID:EVENTFROG//EVENT//ICAL
BEGIN:VEVENT
UID:20260420T002357Z-7445478204532353536@eventfrog.de
DTSTAMP:20260420T002357Z
DTSTART:20260426T173000Z
DTEND:20260426T203000Z
SUMMARY:26.04 [Lysty Nenadislani] Letters Unsent
DESCRIPTION:[Lysty Nenadislani] Letters Unsent by Maria Kebuladze and Odarka Zyrko\n\nhttps://eventfrog.de/en/p/concerts/other-music-genres/26-04-lysty-nenadislani-letters-unsent-7445478204532353536.html
LOCATION:Hotel Continental - Art Space in Exile
GEO:52.487199;13.451877
URL:https://eventfrog.de/en/p/concerts/other-music-genres/26-04-lysty-nenadislani-letters-unsent-7445478204532353536.html
END:VEVENT
END:VCALENDAR