BEGIN:VCALENDAR
VERSION:2.0
PRODID:EVENTFROG//EVENT//ICAL
BEGIN:VEVENT
UID:20260422T013153Z-7445502854511506109@eventfrog.de
DTSTAMP:20260422T013153Z
DTSTART:20261217T190000Z
SUMMARY:Andy Egert Blues Band
DESCRIPTION:Andy Egert begeistert mit dynamischem Texas-, Chicago- und Delta-Blues in kraftvollen Shows voller Leidenschaft.\n\nhttps://eventfrog.de/de/p/konzerte/jazz-blues/andy-egert-blues-band-7445502854511506109.html
LOCATION:Bücheler-Hus
GEO:47.452380;8.587983
URL:https://eventfrog.de/de/p/konzerte/jazz-blues/andy-egert-blues-band-7445502854511506109.html
END:VEVENT
END:VCALENDAR