BEGIN:VCALENDAR
VERSION:2.0
PRODID:EVENTFROG//EVENT//ICAL
BEGIN:VEVENT
UID:20260425T023640Z-7446136629721320360@eventfrog.de
DTSTAMP:20260425T023640Z
DTSTART:20260425T090000Z
DTEND:20260425T160000Z
SUMMARY:Köln – Was Frauen wirklich wollen – Single Live Coaching fü
DESCRIPTION:Dieses Live Coaching richtet sich an Männer, die ihr Datingleben nicht länger dem Zufall überlassen wollen.\n\nhttps://eventfrog.de/de/p/kurse-seminare/sonstige-kurse-seminare/koeln-was-frauen-wirklich-wollen-single-live-coaching-fue-7446136629721320360.html
LOCATION: Zentrale, diskrete Location in Köln. Die genaue Adresse erhältst du nach deiner Buchung
URL:https://eventfrog.de/de/p/kurse-seminare/sonstige-kurse-seminare/koeln-was-frauen-wirklich-wollen-single-live-coaching-fue-7446136629721320360.html
END:VEVENT
END:VCALENDAR