BEGIN:VCALENDAR
VERSION:2.0
PRODID:EVENTFROG//EVENT//ICAL
BEGIN:VEVENT
UID:20260421T215654Z-7446997987476170356@eventfrog.de
DTSTAMP:20260421T215654Z
DTSTART:20260425T130000Z
DTEND:20260425T142000Z
SUMMARY:Jurassic-Liveshow
DESCRIPTION:Am 25. April erleben Familien in Neustadt/Holstein eine interaktive Jurassic-Livshow mit Dinosauriern zum Anfassen.\n\nhttps://eventfrog.de/de/p/kinderveranstaltungen/familienveranstaltungen/jurassic-liveshow-7446997987476170356.html
LOCATION:Aula der Jacob-Lienau-Schule
GEO:54.106080;10.820400
URL:https://eventfrog.de/de/p/kinderveranstaltungen/familienveranstaltungen/jurassic-liveshow-7446997987476170356.html
END:VEVENT
END:VCALENDAR