BEGIN:VCALENDAR
VERSION:2.0
PRODID:EVENTFROG//EVENT//ICAL
BEGIN:VEVENT
UID:20260424T204636Z-7447191051356388611@eventfrog.de
DTSTAMP:20260424T204636Z
DTSTART:20260510T150000Z
DTEND:20260510T170000Z
SUMMARY:Konzert Landespolizeiorchester Baden-Württemberg (LPO)
DESCRIPTION:Das Landespolizeiorchester Baden-Württemberg spielt ein Benefizkonzert in Pliezhausen zum Muttertag mit festlicher Atmosphäre.\n\nhttps://eventfrog.de/de/p/konzerte/weitere-musikrichtungen/konzert-landespolizeiorchester-baden-wuerttemberg-lpo-7447191051356388611.html
LOCATION:Gemeindehalle Pliezhausen
GEO:48.559200;9.202790
URL:https://eventfrog.de/de/p/konzerte/weitere-musikrichtungen/konzert-landespolizeiorchester-baden-wuerttemberg-lpo-7447191051356388611.html
END:VEVENT
END:VCALENDAR