BEGIN:VCALENDAR
VERSION:2.0
PRODID:EVENTFROG//EVENT//ICAL
BEGIN:VEVENT
UID:20260420T005044Z-7447286389765354733@eventfrog.de
DTSTAMP:20260420T005044Z
DTSTART:20260425T120000Z
DTEND:20260425T150000Z
SUMMARY:"Experten bewerten" bei MyPlace in Offenbach
DESCRIPTION:Bei MyPlace werden am 25.4. in Offenbach gratis bis zu drei mitgebrachte Gegenstände von 14 bis 17 Uhr bewertet .\n\nhttps://eventfrog.de/de/p/kunst-ausstellungen/weitere-kunstveranstaltungen/experten-bewerten-bei-myplace-in-offenbach-7447286389765354733.html
LOCATION:MyPlace SelfStorage Offenbach
GEO:50.107965;8.733529
URL:https://eventfrog.de/de/p/kunst-ausstellungen/weitere-kunstveranstaltungen/experten-bewerten-bei-myplace-in-offenbach-7447286389765354733.html
END:VEVENT
END:VCALENDAR