BEGIN:VCALENDAR
VERSION:2.0
PRODID:EVENTFROG//EVENT//ICAL
BEGIN:VEVENT
UID:20260420T025203Z-7447643511988433265@eventfrog.de
DTSTAMP:20260420T025203Z
DTSTART:20260606T080000Z
DTEND:20260606T160000Z
SUMMARY:Tag der Bundeswehr Kastellaun 2026
DESCRIPTION:Tag der Bundeswehr Kastellaun 2026\n•	Veranstalter: BMVg Federführung Informationstechnikbataillon 282\n•	Ort: 56288 Kastellaun\n•	Veranstaltungsort: Raketenbasis Pydna \n•	Uhrzeit: 10:00-18:00 Uhr\n\nhttps://eventfrog.de/de/p/freizeit-ausfluege/tag-der-offenen-tuer/tag-der-bundeswehr-kastellaun-2026-7447643511988433265.html
LOCATION:Pydna
GEO:50.043212;7.425532
URL:https://eventfrog.de/de/p/freizeit-ausfluege/tag-der-offenen-tuer/tag-der-bundeswehr-kastellaun-2026-7447643511988433265.html
END:VEVENT
END:VCALENDAR