BEGIN:VCALENDAR
VERSION:2.0
PRODID:EVENTFROG//EVENT//ICAL
BEGIN:VEVENT
UID:20260424T110653Z-7447670014662989401@eventfrog.de
DTSTAMP:20260424T110653Z
DTSTART:20260503T130000Z
DTEND:20260503T150000Z
SUMMARY:Frühlingsgefühle - Die #BerlinAuthors lesen in den Mai
DESCRIPTION:Das lokale Literaturnetzwerk #BerlinAuthors lädt ein zur Frühlingslesung mit 6 Autor*innen.\n\nhttps://eventfrog.de/de/p/theater-buehne/lesung/fruehlingsgefuehle-die-berlinauthors-lesen-in-den-mai-7447670014662989401.html
LOCATION:Kallasch& - Moabiter Barprojekt
GEO:52.532937;13.336582
URL:https://eventfrog.de/de/p/theater-buehne/lesung/fruehlingsgefuehle-die-berlinauthors-lesen-in-den-mai-7447670014662989401.html
END:VEVENT
END:VCALENDAR