BEGIN:VCALENDAR
VERSION:2.0
PRODID:EVENTFROG//EVENT//ICAL
BEGIN:VEVENT
UID:20260420T025256Z-7449025729566653782@eventfrog.de
DTSTAMP:20260420T025256Z
DTSTART:20260602T180000Z
DTEND:20260602T203000Z
SUMMARY:Hippies & Cowboys (USA)
DESCRIPTION:Hippies And Cowboys begeistern mit kraftvollem Southern Rock und energiegeladenen Live-Shows, inspiriert von amerikanischer Musiktradition.\n\nhttps://eventfrog.de/de/p/konzerte/pop-rock/hippies-cowboys-usa-7449025729566653782.html
LOCATION:Partyzelt FV Fahrnau
GEO:47.665809;7.837759
URL:https://eventfrog.de/de/p/konzerte/pop-rock/hippies-cowboys-usa-7449025729566653782.html
END:VEVENT
END:VCALENDAR