BEGIN:VCALENDAR
VERSION:2.0
PRODID:EVENTFROG//EVENT//ICAL
BEGIN:VEVENT
UID:20260425T201609Z-7449058874831685082@eventfrog.de
DTSTAMP:20260425T201609Z
DTSTART:20260612T160000Z
DTEND:20260613T215900Z
SUMMARY:Stallkino 2026
DESCRIPTION:Spezielle Kinohighlights, Schweizer Kurzfilme, Barbetrieb und Kulinarik auf dem Chirsgartehof in Metzerlen\n\nhttps://eventfrog.de/de/p/festivals/film/stallkino-2026-7449058874831685082.html
LOCATION:Chirsgartehof, Chilweg 1
GEO:47.463566;7.457329
URL:https://eventfrog.de/de/p/festivals/film/stallkino-2026-7449058874831685082.html
END:VEVENT
END:VCALENDAR