BEGIN:VCALENDAR
VERSION:2.0
PRODID:EVENTFROG//EVENT//ICAL
BEGIN:VEVENT
UID:20260425T202300Z-7449215028731849321@eventfrog.de
DTSTAMP:20260425T202300Z
DTSTART:20260507T161500Z
SUMMARY:Leseklub Kolibri 7.5. - 18.6. 2026
DESCRIPTION:Ab 7. Mai liest der Leseklub Kolibri im tibits Basel «Bleib dran!» von Marko Slusarek und tauscht sich dazu aus.\n\nhttps://eventfrog.de/de/p/diverses/leseklub-kolibri-7-5-18-6-2026-7449215028731849321.html
LOCATION:Tibits Basel Gundeli
GEO:47.546830;7.585514
URL:https://eventfrog.de/de/p/diverses/leseklub-kolibri-7-5-18-6-2026-7449215028731849321.html
END:VEVENT
END:VCALENDAR