BEGIN:VCALENDAR
VERSION:2.0
PRODID:EVENTFROG//EVENT//ICAL
BEGIN:VEVENT
UID:20260419T195900Z-7449547360324064333@eventfrog.de
DTSTAMP:20260419T195900Z
DTSTART:20260419T140000Z
DTEND:20260419T160000Z
SUMMARY:Jahresausstellung 2026
DESCRIPTION:Ort und Öffnungszeiten:\nStadtmuseum Norderstedt, Friedrichsgaber Weg 290\nMi–Sa: 15-18 Uhr, und So: 11-18 Uhr – Eintritt: 5,- \nIm Eintrittspreis ist der Besuch des Norderstedter\nFeuerwehrmuseums beinh\n\nhttps://eventfrog.de/de/p/kunst-ausstellungen/vernissage/jahresausstellung-2026-7449547360324064333.html
LOCATION:Stadtmuseum
GEO:53.702633;9.979867
URL:https://eventfrog.de/de/p/kunst-ausstellungen/vernissage/jahresausstellung-2026-7449547360324064333.html
END:VEVENT
END:VCALENDAR