BEGIN:VCALENDAR
VERSION:2.0
PRODID:EVENTFROG//EVENT//ICAL
BEGIN:VEVENT
UID:20260419T160131Z-7449720895428405156@eventfrog.de
DTSTAMP:20260419T160131Z
DTSTART:20260510T120000Z
DTEND:20260510T133000Z
SUMMARY:Bunkertour im Zombeck-Turm Hamburg-Hasselbrook
DESCRIPTION:Bei der Führung entdecken Sie den Zombeck-Turm in Hamburg-Hasselbrook und erfahren seine Geschichte im Zweiten Weltkrieg.\n\nhttps://eventfrog.de/de/p/fuehrungen-vortraege/stadtfuehrung/bunkertour-im-zombeck-turm-hamburg-hasselbrook-7449720895428405156.html
LOCATION:Hasselbrookstraße 174
GEO:53.565437;10.056779
URL:https://eventfrog.de/de/p/fuehrungen-vortraege/stadtfuehrung/bunkertour-im-zombeck-turm-hamburg-hasselbrook-7449720895428405156.html
END:VEVENT
END:VCALENDAR