BEGIN:VCALENDAR
VERSION:2.0
PRODID:EVENTFROG//EVENT//ICAL
BEGIN:VEVENT
UID:20260422T193912Z-7449723416964267488@eventfrog.de
DTSTAMP:20260422T193912Z
DTSTART:20260501T090000Z
DTEND:20260501T150000Z
SUMMARY:Tanz in den Mai
DESCRIPTION:Mitreißende Musik und unbeschwertes Tanzen mit der LAG Tanz, vielfältigem Stepptanz im Rahmen von „Tapula Rasa“ und den Tänzer*innen der Trainerhelden.\n\nhttps://eventfrog.de/de/p/freizeit-ausfluege/sonstige-veranstaltungen/tanz-in-den-mai-7449723416964267488.html
LOCATION:Britzer Garten
GEO:52.431603;13.413025
URL:https://eventfrog.de/de/p/freizeit-ausfluege/sonstige-veranstaltungen/tanz-in-den-mai-7449723416964267488.html
END:VEVENT
END:VCALENDAR