BEGIN:VCALENDAR
VERSION:2.0
PRODID:EVENTFROG//EVENT//ICAL
BEGIN:VEVENT
UID:20260425T235331Z-7449778091302325777@eventfrog.de
DTSTAMP:20260425T235331Z
DTSTART:20260426T133000Z
DTEND:20260426T153000Z
SUMMARY:Konzertgottesdienst mit Oliver Fietz
DESCRIPTION:Der deutsche Musiker Oliver Fietz wird sämtliche Lieder des Konzertgottesdienstes  live spielen und singen. Er nimmt den weiten Weg von Greifenstein, Hessen auf sich um in Immendingen aufzutreten.\n\n\nhttps://eventfrog.de/de/p/konzerte/singer-songwriter/konzertgottesdienst-mit-oliver-fietz-7449778091302325777.html
LOCATION:Katholische Kirche
GEO:47.939240;8.733430
URL:https://eventfrog.de/de/p/konzerte/singer-songwriter/konzertgottesdienst-mit-oliver-fietz-7449778091302325777.html
END:VEVENT
END:VCALENDAR