BEGIN:VCALENDAR
VERSION:2.0
PRODID:EVENTFROG//EVENT//ICAL
BEGIN:VEVENT
UID:20260422T193901Z-7449779364894350488@eventfrog.de
DTSTAMP:20260422T193901Z
DTSTART:20260517T130000Z
DTEND:20260517T170000Z
SUMMARY:Rockn Roll Tanztee
DESCRIPTION:DJamila präsentiert den ersten Rock 'n' Roll Tanztee mit Hits der 50er und 60er Jahre für alle Tanzbegeisterten.\n\nhttps://eventfrog.de/de/p/partys/60-s/rockn-roll-tanztee-7449779364894350488.html
LOCATION:Ballhaus Wedding
GEO:52.556611;13.388830
URL:https://eventfrog.de/de/p/partys/60-s/rockn-roll-tanztee-7449779364894350488.html
END:VEVENT
END:VCALENDAR