BEGIN:VCALENDAR
VERSION:2.0
PRODID:EVENTFROG//EVENT//ICAL
BEGIN:VEVENT
UID:20260422T193900Z-7449781126032301680@eventfrog.de
DTSTAMP:20260422T193900Z
DTSTART:20260531T123000Z
DTEND:20260531T153000Z
SUMMARY:Lets Swing - Tanztee   mit DJ Stephan Wuthe
DESCRIPTION:«Lets Swing» bietet einen Tanztee mit DJ Stephan Wuthe und originalen Schellack-Schallplatten zu authentischem Swing. Eintritt 15  / 16 .\n\nhttps://eventfrog.de/de/p/partys/swing/lets-swing-tanztee-mit-dj-stephan-wuthe-7449781126032301680.html
LOCATION:Ballhaus Wedding
GEO:52.556611;13.388830
URL:https://eventfrog.de/de/p/partys/swing/lets-swing-tanztee-mit-dj-stephan-wuthe-7449781126032301680.html
END:VEVENT
END:VCALENDAR