BEGIN:VCALENDAR
VERSION:2.0
PRODID:EVENTFROG//EVENT//ICAL
BEGIN:VEVENT
UID:20260425T204444Z-7449890534275966040@eventfrog.de
DTSTAMP:20260425T204444Z
DTSTART:20260528T170000Z
DTEND:20260528T190000Z
SUMMARY:Valerie liest - Der Buchclub. “Goldstrand”
DESCRIPTION:Gemeinsam diskutieren wir über Katerina Poladjans tiefgründige armenische Familiensaga „Goldstrand“.\n\nhttps://eventfrog.de/en/p/courses-seminars/art-culture/valerie-liest-der-buchclub-goldstrand-7449890534275966040.html
LOCATION:Cozy Place
GEO:47.555552;7.586724
URL:https://eventfrog.de/en/p/courses-seminars/art-culture/valerie-liest-der-buchclub-goldstrand-7449890534275966040.html
END:VEVENT
END:VCALENDAR