BEGIN:VCALENDAR
VERSION:2.0
PRODID:EVENTFROG//EVENT//ICAL
BEGIN:VEVENT
UID:20260421T134415Z-7449925169638824439@eventfrog.de
DTSTAMP:20260421T134415Z
DTSTART:20260425T073000Z
DTEND:20260425T153000Z
SUMMARY:Hallenflohmartkt bei uns auf dem Hof
DESCRIPTION:25.04.26\n-Hallenflohmarkt\n-09.30Uhr-17.30Uhr\n-freier Eintritt \n-Hüpfburg für die Kinder\n\nhttps://eventfrog.de/de/p/maerkte/flohmarkt/hallenflohmartkt-bei-uns-auf-dem-hof-7449925169638824439.html
LOCATION:Flohmarkt
GEO:52.012386;11.407490
URL:https://eventfrog.de/de/p/maerkte/flohmarkt/hallenflohmartkt-bei-uns-auf-dem-hof-7449925169638824439.html
END:VEVENT
END:VCALENDAR