BEGIN:VCALENDAR
VERSION:2.0
PRODID:EVENTFROG//EVENT//ICAL
BEGIN:VEVENT
UID:20260420T025256Z-7450130641851540611@eventfrog.de
DTSTAMP:20260420T025256Z
DTSTART:20260613T080000Z
DTEND:20260613T140000Z
SUMMARY:Tag der offenen Tür im Petri-Haus
DESCRIPTION:Am 13.06 zeigt das Hospiz von 10-16 Uhr seine Arbeit, lädt zu Gesprächen, Kaffee, Kuchen und Tombola ein.\n\nhttps://eventfrog.de/de/p/freizeit-ausfluege/tag-der-offenen-tuer/tag-der-offenen-tuer-im-petri-haus-7450130641851540611.html
LOCATION:Petri-Haus
GEO:54.522251;9.556564
URL:https://eventfrog.de/de/p/freizeit-ausfluege/tag-der-offenen-tuer/tag-der-offenen-tuer-im-petri-haus-7450130641851540611.html
END:VEVENT
END:VCALENDAR