BEGIN:VCALENDAR
VERSION:2.0
PRODID:EVENTFROG//EVENT//ICAL
BEGIN:VEVENT
UID:20260420T012727Z-7450149034075908928@eventfrog.de
DTSTAMP:20260420T012727Z
DTSTART:20260505T170000Z
DTEND:20260505T183000Z
SUMMARY:Szenenabend - Alles Mozart oder was?
DESCRIPTION:Solistinnen und Solisten der Gesangsklassen Helga Kutter, Eva Schuster und Stephan Heinemann;\nAuszüge aus "Die Hochzeit des Figaro", "Die Zauberflöte" und vieles mehr ...\n\nhttps://eventfrog.de/de/p/klassik-opern/klassik/szenenabend-alles-mozart-oder-was-7450149034075908928.html
LOCATION:Kreiskulturraum
GEO:50.234630;11.329080
URL:https://eventfrog.de/de/p/klassik-opern/klassik/szenenabend-alles-mozart-oder-was-7450149034075908928.html
END:VEVENT
END:VCALENDAR