BEGIN:VCALENDAR
VERSION:2.0
PRODID:EVENTFROG//EVENT//ICAL
BEGIN:VEVENT
UID:20260421T121706Z-7450157141309031377@eventfrog.de
DTSTAMP:20260421T121706Z
DTSTART:20260620T153000Z
DTEND:20260620T180000Z
SUMMARY:Münchens neues Dating Event (25–35 J.) – Achtsames Dating
DESCRIPTION:Achtsames Dating in München, 25-35 Jahre. In einem ruhigen Raum begegnet ihr euch spielerisch & authentisch – ohne Swipen, sondern mit echter Verbindung. DIE Alternative zum klassischen Speed Dating. \n\nhttps://eventfrog.de/de/p/dating/speed-dating/muenchens-neues-dating-event-2535-j-achtsames-dating-7450157141309031377.html
LOCATION:YOGASHALA - Iyengar Yoga München
GEO:48.133309;11.569149
URL:https://eventfrog.de/de/p/dating/speed-dating/muenchens-neues-dating-event-2535-j-achtsames-dating-7450157141309031377.html
END:VEVENT
END:VCALENDAR