BEGIN:VCALENDAR
VERSION:2.0
PRODID:EVENTFROG//EVENT//ICAL
BEGIN:VEVENT
UID:20260419T201737Z-7450158609600672042@eventfrog.de
DTSTAMP:20260419T201737Z
DTSTART:20260726T170000Z
DTEND:20260726T200000Z
SUMMARY:Stringbreak: Queen Of The Hive & Ropes and Trees (Moonshine
DESCRIPTION:QUEEN OF THE HIVE, ROPES AND TREES und DER NICO spielen Folk und Akustikmusik bei schönem Wetter draussen, sonst drinnen.\n\nhttps://eventfrog.de/de/p/konzerte/folk/stringbreak-queen-of-the-hive-ropes-and-trees-moonshine-7450158609600672042.html
LOCATION:Kopf und Kragen
GEO:49.471410;10.986040
URL:https://eventfrog.de/de/p/konzerte/folk/stringbreak-queen-of-the-hive-ropes-and-trees-moonshine-7450158609600672042.html
END:VEVENT
END:VCALENDAR