BEGIN:VCALENDAR
VERSION:2.0
PRODID:EVENTFROG//EVENT//ICAL
BEGIN:VEVENT
UID:20260421T001337Z-7450408007869932027@eventfrog.de
DTSTAMP:20260421T001337Z
DTSTART:20261214T190000Z
DTEND:20261214T210000Z
SUMMARY:MAUSTETYTÖT
DESCRIPTION:Maustetytöt bieten emotionale, eingängige Musik und wurden durch ihre Kooperation mit Regisseur Aki Kaurismäki bekannt.\n\nhttps://eventfrog.de/de/p/konzerte/indie-alternative/maustetytoet-7450408007869932027.html
LOCATION:Theater am Gleis, Winterthur
GEO:47.498445;8.723314
URL:https://eventfrog.de/de/p/konzerte/indie-alternative/maustetytoet-7450408007869932027.html
END:VEVENT
END:VCALENDAR