BEGIN:VCALENDAR
VERSION:2.0
PRODID:EVENTFROG//EVENT//ICAL
BEGIN:VEVENT
UID:20260419T214937Z-7450442884354989562@eventfrog.de
DTSTAMP:20260419T214937Z
DTSTART:20260514T090000Z
DTEND:20260514T160000Z
SUMMARY:Das Original Insectophobie Riesenspinnen & Insekten
DESCRIPTION:Das Original Insectophobie\n\nLebende Riesenspinnen und Insekten Ausstellung\n\nMit dabei die größten Vogelspinnen der Welt und Über 500 Exemplaren\n\nhttps://eventfrog.de/de/p/messen/tierausstellung/das-original-insectophobie-riesenspinnen-insekten-7450442884354989562.html
LOCATION:Bürgerzentrum Waiblingen
GEO:48.831979;9.320579
URL:https://eventfrog.de/de/p/messen/tierausstellung/das-original-insectophobie-riesenspinnen-insekten-7450442884354989562.html
END:VEVENT
END:VCALENDAR