BEGIN:VCALENDAR
VERSION:2.0
PRODID:EVENTFROG//EVENT//ICAL
BEGIN:VEVENT
UID:20260422T112625Z-7450499611142189615@eventfrog.de
DTSTAMP:20260422T112625Z
DTSTART:20260509T170000Z
DTEND:20260509T213000Z
SUMMARY:Das ist Bonn nicht Paris Freestyleturnier
DESCRIPTION:Freestyle Battlerap endlich in Bonn\nOpenmic Cypher und Battle Turnier\nEine Möglichkeit eigene Talente im Rappen, Reimen und Improvisieren zu demonstrieren.\n\nhttps://eventfrog.de/de/p/konzerte/hip-hop-rap/das-ist-bonn-nicht-paris-freestyleturnier-7450499611142189615.html
LOCATION:Kulturwohnzimmer RheinBühne
GEO:50.737673;7.098750
URL:https://eventfrog.de/de/p/konzerte/hip-hop-rap/das-ist-bonn-nicht-paris-freestyleturnier-7450499611142189615.html
END:VEVENT
END:VCALENDAR