BEGIN:VCALENDAR
VERSION:2.0
PRODID:EVENTFROG//EVENT//ICAL
BEGIN:VEVENT
UID:20260421T130853Z-7450525125328252076@eventfrog.de
DTSTAMP:20260421T130853Z
DTSTART:20270320T090000Z
DTEND:20270320T150000Z
SUMMARY:20. Jobmesse Halle
DESCRIPTION:Alle Wege zu Deiner Karriere auf der Jobmesse Halle am 20. März 2027 in der Georg-Friedrich-Händel-Halle!\n\nhttps://eventfrog.de/de/p/messen/messe/20-jobmesse-halle-7450525125328252076.html
LOCATION:Georg-Friedrich-Händel-Halle
GEO:51.481732;11.964011
URL:https://eventfrog.de/de/p/messen/messe/20-jobmesse-halle-7450525125328252076.html
END:VEVENT
END:VCALENDAR