BEGIN:VCALENDAR
VERSION:2.0
PRODID:EVENTFROG//EVENT//ICAL
BEGIN:VEVENT
UID:20260419T184258Z-7450538271942178193@eventfrog.de
DTSTAMP:20260419T184258Z
DTSTART:20260708T070000Z
SUMMARY:Der Zauberer von Oz
DESCRIPTION:Der berühmte Kinderbuchklassiker hat in seiner 125-jährigen Geschichte die Kinoleinwände und auch die Theaterbühnen der Welt erobert.\n\nhttps://eventfrog.de/de/p/theater-buehne/theater/der-zauberer-von-oz-7450538271942178193.html
LOCATION:Theater Schloss Maßbach - Unterfränkische Landesbühne
GEO:50.181256;10.281103
URL:https://eventfrog.de/de/p/theater-buehne/theater/der-zauberer-von-oz-7450538271942178193.html
END:VEVENT
END:VCALENDAR