BEGIN:VCALENDAR
VERSION:2.0
PRODID:EVENTFROG//EVENT//ICAL
BEGIN:VEVENT
UID:20260422T013152Z-7450589229350916833@eventfrog.de
DTSTAMP:20260422T013152Z
DTSTART:20260522T150000Z
DTEND:20260522T220000Z
SUMMARY:Kantine Quiz / Caverno Bülach
DESCRIPTION:Pub Quiz Bülach\n\nhttps://eventfrog.de/de/p/freizeit-ausfluege/gruppen-spiele/kantine-quiz-caverno-buelach-7450589229350916833.html
LOCATION:Caverno Bülach
GEO:47.508061;8.539978
URL:https://eventfrog.de/de/p/freizeit-ausfluege/gruppen-spiele/kantine-quiz-caverno-buelach-7450589229350916833.html
END:VEVENT
END:VCALENDAR