BEGIN:VCALENDAR
VERSION:2.0
PRODID:EVENTFROG//EVENT//ICAL
BEGIN:VEVENT
UID:20260421T133844Z-7450656315938987801@eventfrog.de
DTSTAMP:20260421T133844Z
DTSTART:20260425T080000Z
DTEND:20260425T140000Z
SUMMARY:Hof- und Garagenflohmarkt am Höhenbergweg
DESCRIPTION:Hof-und Garagenflohmarkt der Anwohner des Höhenbergwegs und des Melkstattwegs im Abschnitt zwischen Höhenbergweg und Austrasse. \nAusweichtermin bei Regen: 09.05.2026\n\nhttps://eventfrog.de/de/p/maerkte/flohmarkt/hof-und-garagenflohmarkt-am-hoehenbergweg-7450656315938987801.html
LOCATION:Hintersberg Bad Tölz
GEO:47.765890;11.557559
URL:https://eventfrog.de/de/p/maerkte/flohmarkt/hof-und-garagenflohmarkt-am-hoehenbergweg-7450656315938987801.html
END:VEVENT
END:VCALENDAR