BEGIN:VCALENDAR
VERSION:2.0
PRODID:EVENTFROG//EVENT//ICAL
BEGIN:VEVENT
UID:20260425T215950Z-7450820181629132905@eventfrog.de
DTSTAMP:20260425T215950Z
DTSTART:20260517T090000Z
DTEND:20260517T160000Z
SUMMARY:Das Original Insectophobie Riesen Spinnen & Insekten
DESCRIPTION:Das Original Insectophobie\n\nLebende Riesenspinnen und Insekten Ausstellung\n\nMit dabei die größten Vogelspinnen der Welt und Über 500 Exemplaren\n\nhttps://eventfrog.de/de/p/messen/tierausstellung/das-original-insectophobie-riesen-spinnen-insekten-7450820181629132905.html
LOCATION:Das K
GEO:48.859869;9.186298
URL:https://eventfrog.de/de/p/messen/tierausstellung/das-original-insectophobie-riesen-spinnen-insekten-7450820181629132905.html
END:VEVENT
END:VCALENDAR