BEGIN:VCALENDAR
VERSION:2.0
PRODID:EVENTFROG//EVENT//ICAL
BEGIN:VEVENT
UID:20260419T224418Z-7450832445547540424@eventfrog.de
DTSTAMP:20260419T224418Z
DTSTART:20260424T170000Z
DTEND:20260424T193000Z
SUMMARY:Wein & Natur
DESCRIPTION:Weingenuss für Klima und Artenvielfalt? Wie das zusammen passt verraten uns WinzerInnen und ExpertInnen der Region bei einer Weinprobe der besonderen Art!\n\nhttps://eventfrog.de/de/p/essen-trinken/wein-natur-7450832445547540424.html
LOCATION:Alte Papierfabrik Ebertsheim
GEO:49.565994;8.109651
URL:https://eventfrog.de/de/p/essen-trinken/wein-natur-7450832445547540424.html
END:VEVENT
END:VCALENDAR