BEGIN:VCALENDAR
VERSION:2.0
PRODID:EVENTFROG//EVENT//ICAL
BEGIN:VEVENT
UID:20260420T160943Z-7450876356370426624@eventfrog.de
DTSTAMP:20260420T160943Z
DTSTART:20260523T140000Z
DTEND:20260523T200000Z
SUMMARY:Pfingstspektakeö
DESCRIPTION:Über Pfingsten laden Heimathaus Rotenburg und die Fogelvrei Produktionen wieder auf eine Zeitreise in mittelalterliche Welten. Mit großem Markt, Kulturspektakel und Heerlagerleben.\n\nhttps://eventfrog.de/de/p/maerkte/mittelaltermarkt/pfingstspektakeoe-7450876356370426624.html
LOCATION:Heimathaus Rotenburg-Wümme
GEO:53.108380;9.396226
URL:https://eventfrog.de/de/p/maerkte/mittelaltermarkt/pfingstspektakeoe-7450876356370426624.html
END:VEVENT
END:VCALENDAR