BEGIN:VCALENDAR
VERSION:2.0
PRODID:EVENTFROG//EVENT//ICAL
BEGIN:VEVENT
UID:20260424T162347Z-7450898539578706912@eventfrog.de
DTSTAMP:20260424T162347Z
DTSTART:20260429T153000Z
DTEND:20260429T163000Z
SUMMARY:Neuer Ballettkurs für Erwachsene in der KulturFabrik
DESCRIPTION:Ab Ende April bietet Ludmila Nikolaevna in der KulturFabrik Haldensleben einen Ballettkurs für Erwachsene und Wiedereinsteiger an.\n\nhttps://eventfrog.de/de/p/kurse-seminare/sport-fitness/neuer-ballettkurs-fuer-erwachsene-in-der-kulturfabrik-7450898539578706912.html
LOCATION:KulturFabrik Haldensleben
GEO:52.287521;11.407987
URL:https://eventfrog.de/de/p/kurse-seminare/sport-fitness/neuer-ballettkurs-fuer-erwachsene-in-der-kulturfabrik-7450898539578706912.html
END:VEVENT
END:VCALENDAR