BEGIN:VCALENDAR
VERSION:2.0
PRODID:EVENTFROG//EVENT//ICAL
BEGIN:VEVENT
UID:20260424T080341Z-7450978002731577348@eventfrog.de
DTSTAMP:20260424T080341Z
DTSTART:20261201T090000Z
DTEND:20271130T190000Z
SUMMARY:Partnerrückführung mit weißer Magie und Liebeszauber
DESCRIPTION:Partnerrückführung mit weißer Magie – Liebeszauber Rituale und Liebesmagie für Ex-Partner zurück, Liebe, Versöhnung und neue Nähe.\n\nhttps://eventfrog.de/de/p/gesundheit-spiritualitaet/spiritualitaet/partnerrueckfuehrung-mit-weisser-magie-und-liebeszauber-7450978002731577348.html
LOCATION:Yoga-Raum
GEO:53.550967;9.993084
URL:https://eventfrog.de/de/p/gesundheit-spiritualitaet/spiritualitaet/partnerrueckfuehrung-mit-weisser-magie-und-liebeszauber-7450978002731577348.html
END:VEVENT
END:VCALENDAR