BEGIN:VCALENDAR
VERSION:2.0
PRODID:EVENTFROG//EVENT//ICAL
BEGIN:VEVENT
UID:20260421T173257Z-7451197628899976597@eventfrog.de
DTSTAMP:20260421T173257Z
DTSTART:20260502T083000Z
DTEND:20260502T153000Z
SUMMARY:Aquarell Workshop
DESCRIPTION:Lerne entspannt das Aquarellieren mit Grundfarben und male zwei Werke, die du mit nach Hause nimmst. Vorkenntnisse nicht nötig.\n\nhttps://eventfrog.de/de/p/kurse-seminare/kunst-kultur/aquarell-workshop-7451197628899976597.html
LOCATION:Aquarelle auf Wunsch
GEO:50.221787;9.345371
URL:https://eventfrog.de/de/p/kurse-seminare/kunst-kultur/aquarell-workshop-7451197628899976597.html
END:VEVENT
END:VCALENDAR