BEGIN:VCALENDAR
VERSION:2.0
PRODID:EVENTFROG//EVENT//ICAL
BEGIN:VEVENT
UID:20260421T163427Z-7451302206324627343@eventfrog.de
DTSTAMP:20260421T163427Z
DTSTART:20261220T160000Z
DTEND:20261220T183000Z
SUMMARY:J.S. Bach – Weihnachtsoratorium (I-VI) (BWV 248)
DESCRIPTION:J.S. Bach – Weihnachtsoratorium (I-VI) (BWV 248)\nSo, 20.12.2026, 17 Uhr, Kilianskirche Heilbronn\nLeitung Michael Böttcher\n\nInfos + Tickets unter www.hsc-hn.de\n\nhttps://eventfrog.de/de/p/klassik-opern/klassik/j-s-bach-weihnachtsoratorium-i-vi-bwv-248-7451302206324627343.html
LOCATION:Kilianskirche
GEO:49.141553;9.220031
URL:https://eventfrog.de/de/p/klassik-opern/klassik/j-s-bach-weihnachtsoratorium-i-vi-bwv-248-7451302206324627343.html
END:VEVENT
END:VCALENDAR