BEGIN:VCALENDAR
VERSION:2.0
PRODID:EVENTFROG//EVENT//ICAL
BEGIN:VEVENT
UID:20260421T134226Z-7451522066082225745@eventfrog.de
DTSTAMP:20260421T134226Z
DTSTART:20260425T080000Z
DTEND:20260425T120000Z
SUMMARY:Flohmarkt in der Kita Fridolin
DESCRIPTION:Der Flohmarkt der Kita Fridolin am 25.4. bietet Spiel, Kuchen und Stöbern von 10 bis 14 Uhr in Potsdam.\n\nhttps://eventfrog.de/de/p/maerkte/kinderflohmarkt/flohmarkt-in-der-kita-fridolin-7451522066082225745.html
LOCATION:Kita Fridolin
GEO:52.409497;13.059986
URL:https://eventfrog.de/de/p/maerkte/kinderflohmarkt/flohmarkt-in-der-kita-fridolin-7451522066082225745.html
END:VEVENT
END:VCALENDAR