BEGIN:VCALENDAR
VERSION:2.0
PRODID:EVENTFROG//EVENT//ICAL
BEGIN:VEVENT
UID:20260425T023533Z-7451569796661956016@eventfrog.de
DTSTAMP:20260425T023533Z
DTSTART:20260425T160000Z
DTEND:20260425T210000Z
SUMMARY:Göttinger Festival in der SPACEINN Halle
DESCRIPTION:Göttinger Festival im SPACEINN\n\nhttps://eventfrog.de/de/p/konzerte/weitere-musikrichtungen/goettinger-festival-in-der-spaceinn-halle-7451569796661956016.html
LOCATION:SpaceInn Halle, 37073 Göttingen, Adolph-Hoyer-Str.5
URL:https://eventfrog.de/de/p/konzerte/weitere-musikrichtungen/goettinger-festival-in-der-spaceinn-halle-7451569796661956016.html
END:VEVENT
END:VCALENDAR