BEGIN:VCALENDAR
VERSION:2.0
PRODID:EVENTFROG//EVENT//ICAL
BEGIN:VEVENT
UID:20260421T191547Z-7451583044715069322@eventfrog.de
DTSTAMP:20260421T191547Z
DTSTART:20270307T170000Z
DTEND:20270307T210000Z
SUMMARY:Das perfekte ABBA Dinner Hambach – Live Show & Musik
DESCRIPTION:Im Hambacher Schloss erlebt man am 7. März ein interaktives ABBA-Dinner mit Live-Gesang, Geschichten und Mehrgangmenü.\n\nhttps://eventfrog.de/de/p/musicals-shows/show/das-perfekte-abba-dinner-hambach-live-show-musik-7451583044715069322.html
LOCATION:Hambacher Schloss
GEO:49.327310;8.126157
URL:https://eventfrog.de/de/p/musicals-shows/show/das-perfekte-abba-dinner-hambach-live-show-musik-7451583044715069322.html
END:VEVENT
END:VCALENDAR