BEGIN:VCALENDAR
VERSION:2.0
PRODID:EVENTFROG//EVENT//ICAL
BEGIN:VEVENT
UID:20260421T235216Z-7451593823413657083@eventfrog.de
DTSTAMP:20260421T235216Z
DTSTART:20270313T180000Z
DTEND:20270313T220000Z
SUMMARY:Das perfekte Schlager Dinner Starnberg – Live Show & Musik
DESCRIPTION:Maite Kelly und Fiesta Mexicana bieten eine interaktive Dinnershow mit Schlagerhits und Publikumsspielen am 13. März in Starnberg.\n\nhttps://eventfrog.de/de/p/konzerte/schlager-volksmusik/das-perfekte-schlager-dinner-starnberg-live-show-musik-7451593823413657083.html
LOCATION:Hotel Vier Jahreszeiten Starnberg
GEO:48.001815;11.350459
URL:https://eventfrog.de/de/p/konzerte/schlager-volksmusik/das-perfekte-schlager-dinner-starnberg-live-show-musik-7451593823413657083.html
END:VEVENT
END:VCALENDAR