BEGIN:VCALENDAR
VERSION:2.0
PRODID:EVENTFROG//EVENT//ICAL
BEGIN:VEVENT
UID:20260421T235216Z-7451598440860009920@eventfrog.de
DTSTAMP:20260421T235216Z
DTSTART:20271106T180000Z
DTEND:20271106T220000Z
SUMMARY:Das perfekte Schlager Dinner Starnberg – Live Show & Musik
DESCRIPTION:Das perfekte Schlager Dinner am 6.11. in Starnberg: Interaktive Show mit Maite Kelly, Fiesta Mexicana und Schlagerhits zum Mitsingen.\n\nhttps://eventfrog.de/de/p/konzerte/schlager-volksmusik/das-perfekte-schlager-dinner-starnberg-live-show-musik-7451598440860009920.html
LOCATION:Hotel Vier Jahreszeiten Starnberg
GEO:48.001815;11.350459
URL:https://eventfrog.de/de/p/konzerte/schlager-volksmusik/das-perfekte-schlager-dinner-starnberg-live-show-musik-7451598440860009920.html
END:VEVENT
END:VCALENDAR