BEGIN:VCALENDAR
VERSION:2.0
PRODID:EVENTFROG//EVENT//ICAL
BEGIN:VEVENT
UID:20260423T070658Z-7451619603610915275@eventfrog.de
DTSTAMP:20260423T070658Z
DTSTART:20260906T160000Z
DTEND:20260906T200000Z
SUMMARY:Kreuzfahrt ins Grab – Krimidinner Bremen
DESCRIPTION:Beim Krimi-Dinner «Kreuzfahrt ins Grab» am 6. September im Bremer Ratskeller erleben Gäste ein spannendes Verschwinden an Bord.\n\nhttps://eventfrog.de/de/p/theater-buehne/theater/kreuzfahrt-ins-grab-krimidinner-bremen-7451619603610915275.html
LOCATION:Ratskeller Bremen
GEO:53.075315;8.805399
URL:https://eventfrog.de/de/p/theater-buehne/theater/kreuzfahrt-ins-grab-krimidinner-bremen-7451619603610915275.html
END:VEVENT
END:VCALENDAR