BEGIN:VCALENDAR
VERSION:2.0
PRODID:EVENTFROG//EVENT//ICAL
BEGIN:VEVENT
UID:20260420T065333Z-7451646634214050515@eventfrog.de
DTSTAMP:20260420T065333Z
DTSTART:20260502T130000Z
SUMMARY:Westside im Park
DESCRIPTION:Am 2. Mai 2026 spielen SEPPMusik, Vostok Import, Roskapankki, TRIBAL M und Fry Hafen & Band im Volkspark Rheinhausen, Eintritt frei.\n\nhttps://eventfrog.de/de/p/festivals/pop-rock/westside-im-park-7451646634214050515.html
LOCATION:Musikpavillon im Volkspark Rheinhausen
GEO:51.411690;6.705920
URL:https://eventfrog.de/de/p/festivals/pop-rock/westside-im-park-7451646634214050515.html
END:VEVENT
END:VCALENDAR