BEGIN:VCALENDAR
VERSION:2.0
PRODID:EVENTFROG//EVENT//ICAL
BEGIN:VEVENT
UID:20260424T080344Z-7451671121995296592@eventfrog.de
DTSTAMP:20260424T080344Z
DTSTART:20260508T180000Z
DTEND:20260508T210000Z
SUMMARY:Summer Fades Away (CN) & there were others (Inst. Post-Rock)
DESCRIPTION:Summer Fades Away (CN) & there were others (DE) live @ Szenerie Drehleier in München.\n\nhttps://eventfrog.de/de/p/konzerte/hard-rock-heavy-metal/summer-fades-away-cn-there-were-others-inst-post-rock-7451671121995296592.html
LOCATION:Szenerie Drehleier
GEO:48.126005;11.598597
URL:https://eventfrog.de/de/p/konzerte/hard-rock-heavy-metal/summer-fades-away-cn-there-were-others-inst-post-rock-7451671121995296592.html
END:VEVENT
END:VCALENDAR