BEGIN:VCALENDAR
VERSION:2.0
PRODID:EVENTFROG//EVENT//ICAL
BEGIN:VEVENT
UID:20260423T070549Z-7451686130309689330@eventfrog.de
DTSTAMP:20260423T070549Z
DTSTART:20261108T170000Z
DTEND:20261108T210000Z
SUMMARY:Sherlock darf nicht sterben – Krimidinner Bremen
DESCRIPTION:Am 8.11. erleben Sie im Bremer Ratskeller ein spannendes Krimi-Dinner mit Sherlock Holmes, Einlass 18 Uhr.\n\nhttps://eventfrog.de/de/p/theater-buehne/theater/sherlock-darf-nicht-sterben-krimidinner-bremen-7451686130309689330.html
LOCATION:Ratskeller Bremen
GEO:53.075315;8.805399
URL:https://eventfrog.de/de/p/theater-buehne/theater/sherlock-darf-nicht-sterben-krimidinner-bremen-7451686130309689330.html
END:VEVENT
END:VCALENDAR